BEGIN:VCALENDAR
VERSION:2.0
PRODID:-//LICHTBLICKHOF Kinderhospiz - ECPv6.15.20//NONSGML v1.0//EN
CALSCALE:GREGORIAN
METHOD:PUBLISH
X-ORIGINAL-URL:https://lichtblickhof.at
X-WR-CALDESC:Veranstaltungen für LICHTBLICKHOF Kinderhospiz
REFRESH-INTERVAL;VALUE=DURATION:PT1H
X-Robots-Tag:noindex
X-PUBLISHED-TTL:PT1H
BEGIN:VTIMEZONE
TZID:Europe/Vienna
BEGIN:DAYLIGHT
TZOFFSETFROM:+0100
TZOFFSETTO:+0200
TZNAME:CEST
DTSTART:20230326T010000
END:DAYLIGHT
BEGIN:STANDARD
TZOFFSETFROM:+0200
TZOFFSETTO:+0100
TZNAME:CET
DTSTART:20231029T010000
END:STANDARD
BEGIN:DAYLIGHT
TZOFFSETFROM:+0100
TZOFFSETTO:+0200
TZNAME:CEST
DTSTART:20240331T010000
END:DAYLIGHT
BEGIN:STANDARD
TZOFFSETFROM:+0200
TZOFFSETTO:+0100
TZNAME:CET
DTSTART:20241027T010000
END:STANDARD
BEGIN:DAYLIGHT
TZOFFSETFROM:+0100
TZOFFSETTO:+0200
TZNAME:CEST
DTSTART:20250330T010000
END:DAYLIGHT
BEGIN:STANDARD
TZOFFSETFROM:+0200
TZOFFSETTO:+0100
TZNAME:CET
DTSTART:20251026T010000
END:STANDARD
END:VTIMEZONE
BEGIN:VEVENT
DTSTART;TZID=Europe/Vienna:20240914T090000
DTEND;TZID=Europe/Vienna:20240915T170000
DTSTAMP:20260421T140250
CREATED:20240130T102541Z
LAST-MODIFIED:20240130T102541Z
UID:71937-1726304400-1726419600@lichtblickhof.at
SUMMARY:Mistfest Wien
DESCRIPTION:Wie jedes Jahr sind wir mit einem Stand am Mistfest in Hernals. Wir freuen uns auf euren Besuch!
URL:https://lichtblickhof.at/event/mistfest-wien/
CATEGORIES:Veranstaltungen
END:VEVENT
END:VCALENDAR