BEGIN:VCALENDAR
VERSION:2.0
PRODID:-//LICHTBLICKHOF Kinderhospiz - ECPv6.15.20//NONSGML v1.0//EN
CALSCALE:GREGORIAN
METHOD:PUBLISH
X-ORIGINAL-URL:https://lichtblickhof.at
X-WR-CALDESC:Veranstaltungen für LICHTBLICKHOF Kinderhospiz
REFRESH-INTERVAL;VALUE=DURATION:PT1H
X-Robots-Tag:noindex
X-PUBLISHED-TTL:PT1H
BEGIN:VTIMEZONE
TZID:Europe/Vienna
BEGIN:DAYLIGHT
TZOFFSETFROM:+0100
TZOFFSETTO:+0200
TZNAME:CEST
DTSTART:20230326T010000
END:DAYLIGHT
BEGIN:STANDARD
TZOFFSETFROM:+0200
TZOFFSETTO:+0100
TZNAME:CET
DTSTART:20231029T010000
END:STANDARD
BEGIN:DAYLIGHT
TZOFFSETFROM:+0100
TZOFFSETTO:+0200
TZNAME:CEST
DTSTART:20240331T010000
END:DAYLIGHT
BEGIN:STANDARD
TZOFFSETFROM:+0200
TZOFFSETTO:+0100
TZNAME:CET
DTSTART:20241027T010000
END:STANDARD
BEGIN:DAYLIGHT
TZOFFSETFROM:+0100
TZOFFSETTO:+0200
TZNAME:CEST
DTSTART:20250330T010000
END:DAYLIGHT
BEGIN:STANDARD
TZOFFSETFROM:+0200
TZOFFSETTO:+0100
TZNAME:CET
DTSTART:20251026T010000
END:STANDARD
BEGIN:DAYLIGHT
TZOFFSETFROM:+0100
TZOFFSETTO:+0200
TZNAME:CEST
DTSTART:20260329T010000
END:DAYLIGHT
BEGIN:STANDARD
TZOFFSETFROM:+0200
TZOFFSETTO:+0100
TZNAME:CET
DTSTART:20261025T010000
END:STANDARD
END:VTIMEZONE
BEGIN:VEVENT
DTSTART;TZID=Europe/Vienna:20241231T080000
DTEND;TZID=Europe/Vienna:20251005T170000
DTSTAMP:20260422T162841
CREATED:20240328T075601Z
LAST-MODIFIED:20250205T094204Z
UID:72049-1735632000-1759683600@lichtblickhof.at
SUMMARY:Fortbildung Einführung in die Schnaubkorrespondenz - Einstieg jederzeit
DESCRIPTION:Selbst-lern-Online-Kurs: Einführung in die Schnaubkorrespondenz – Einstieg jederzeit möglich \nAb Kauf 6Monate Zugang \nWillkommen beim Online-Kurs „Einführung in die Schnaubkorrespondenz“ – Ihrem Schlüssel zu einer tieferen Verbindung mit Pferden! Entwickelt von unserer Gründerin Mag. Roswitha Zink und unserem Team hier am Lichtblickhof\, ermöglicht dieser Selbstlernkurs einen Einstieg in das faszinierende Verständnis für die Audible Exhale Communication (AEC)\, auf deutsch: Schnaubkorrespondenz. \nNähere Infos finden sie HIER!
URL:https://lichtblickhof.at/event/fortbildung-einfuehrung-in-die-schnaubkorrespondenz-einstieg-jederzeit/
CATEGORIES:Termine
ATTACH;FMTTYPE=image/png:https://lichtblickhof.at/wp-content/uploads/2024/01/Schnaubkorrespondenz.png
END:VEVENT
BEGIN:VEVENT
DTSTART;VALUE=DATE:20251002
DTEND;VALUE=DATE:20251006
DTSTAMP:20260422T162841
CREATED:20241120T101950Z
LAST-MODIFIED:20250930T141755Z
UID:72631-1759363200-1759708799@lichtblickhof.at
SUMMARY:AUFTRITT Integrative Theatergruppe auf der Apropos Pferd 2025
DESCRIPTION:Unsere Auftrittszeiten. \nin Halle 4 \nDonnerstag 13:10 – 13:30 und 16:45 im Rahmen der Showtime \nFreitag 13:05 – 13:25 und 17:15 im Rahmen der Showtime \nSamstag 11.00 im Rahmen der Showtime und 16:05 – 16:25 \nSonntag 13:45 im Rahmen der Showtime und 16:30 – 16:50
URL:https://lichtblickhof.at/event/integrative-theatergruppe-auf-der-apropos-pferd-2025/
CATEGORIES:Termine
ATTACH;FMTTYPE=image/jpeg:https://lichtblickhof.at/wp-content/uploads/2024/11/48610128-342A-43EA-9895-6D1C20C375F1_1_105_c.jpeg
END:VEVENT
END:VCALENDAR