BEGIN:VCALENDAR
VERSION:2.0
PRODID:-//LICHTBLICKHOF Kinderhospiz - ECPv6.15.20//NONSGML v1.0//EN
CALSCALE:GREGORIAN
METHOD:PUBLISH
X-WR-CALNAME:LICHTBLICKHOF Kinderhospiz
X-ORIGINAL-URL:https://lichtblickhof.at
X-WR-CALDESC:Veranstaltungen für LICHTBLICKHOF Kinderhospiz
REFRESH-INTERVAL;VALUE=DURATION:PT1H
X-Robots-Tag:noindex
X-PUBLISHED-TTL:PT1H
BEGIN:VTIMEZONE
TZID:Europe/Vienna
BEGIN:DAYLIGHT
TZOFFSETFROM:+0100
TZOFFSETTO:+0200
TZNAME:CEST
DTSTART:20230326T010000
END:DAYLIGHT
BEGIN:STANDARD
TZOFFSETFROM:+0200
TZOFFSETTO:+0100
TZNAME:CET
DTSTART:20231029T010000
END:STANDARD
BEGIN:DAYLIGHT
TZOFFSETFROM:+0100
TZOFFSETTO:+0200
TZNAME:CEST
DTSTART:20240331T010000
END:DAYLIGHT
BEGIN:STANDARD
TZOFFSETFROM:+0200
TZOFFSETTO:+0100
TZNAME:CET
DTSTART:20241027T010000
END:STANDARD
BEGIN:DAYLIGHT
TZOFFSETFROM:+0100
TZOFFSETTO:+0200
TZNAME:CEST
DTSTART:20250330T010000
END:DAYLIGHT
BEGIN:STANDARD
TZOFFSETFROM:+0200
TZOFFSETTO:+0100
TZNAME:CET
DTSTART:20251026T010000
END:STANDARD
BEGIN:DAYLIGHT
TZOFFSETFROM:+0100
TZOFFSETTO:+0200
TZNAME:CEST
DTSTART:20260329T010000
END:DAYLIGHT
BEGIN:STANDARD
TZOFFSETFROM:+0200
TZOFFSETTO:+0100
TZNAME:CET
DTSTART:20261025T010000
END:STANDARD
END:VTIMEZONE
BEGIN:VEVENT
DTSTART;TZID=Europe/Vienna:20241231T080000
DTEND;TZID=Europe/Vienna:20251005T170000
DTSTAMP:20260421T143445
CREATED:20240328T075601Z
LAST-MODIFIED:20250205T094204Z
UID:72049-1735632000-1759683600@lichtblickhof.at
SUMMARY:Fortbildung Einführung in die Schnaubkorrespondenz - Einstieg jederzeit
DESCRIPTION:Selbst-lern-Online-Kurs: Einführung in die Schnaubkorrespondenz – Einstieg jederzeit möglich \nAb Kauf 6Monate Zugang \nWillkommen beim Online-Kurs „Einführung in die Schnaubkorrespondenz“ – Ihrem Schlüssel zu einer tieferen Verbindung mit Pferden! Entwickelt von unserer Gründerin Mag. Roswitha Zink und unserem Team hier am Lichtblickhof\, ermöglicht dieser Selbstlernkurs einen Einstieg in das faszinierende Verständnis für die Audible Exhale Communication (AEC)\, auf deutsch: Schnaubkorrespondenz. \nNähere Infos finden sie HIER!
URL:https://lichtblickhof.at/event/fortbildung-einfuehrung-in-die-schnaubkorrespondenz-einstieg-jederzeit/
CATEGORIES:Termine
ATTACH;FMTTYPE=image/png:https://lichtblickhof.at/wp-content/uploads/2024/01/Schnaubkorrespondenz.png
END:VEVENT
BEGIN:VEVENT
DTSTART;VALUE=DATE:20250504
DTEND;VALUE=DATE:20250505
DTSTAMP:20260421T143445
CREATED:20250418T083119Z
LAST-MODIFIED:20250418T083119Z
UID:73546-1746316800-1746403199@lichtblickhof.at
SUMMARY:Golf with the Vikings
DESCRIPTION:Golf with the Vikings! \nFür den guten Zweck abschlagen! Unter diesem Motto laden die Vienna Vikings alle Golfbegeisterten herzlich zum Charity Golfturnier am 4. Mai im Golfclub Süßenbrunn ein. Ob langjähriger Pro oder leidenschaftlicher Hobby-Golfer – jeder ist willkommen! \nNeben einer spannenden Runde Golf und der einmaligen Gelegenheit\, Spieler der Vienna Vikings persönlich kennenzulernen\, steht vor allem eines im Mittelpunkt: Gutes tun und gemeinsam helfen. Der Reinerlös geht an das Kinderhospiz Lichtblickhof – und kann dort einen bedeutenden Unterschied im Leben von Kindern und Familien bewirken. Auch Zuschauer sind natürlich herzlich willkommen! Wer lieber vom Fairway-Rand aus mitfiebert\, kann das Turnier in entspannter Atmosphäre miterleben und den Tag gemeinsam mit den Vikings genießen. \nWichtige Hinweise: \n\nZur Teilnahme ist eine gültige Platzreife erforderlich\nEigenes Golf-Equipment ist mitzubringen\n\nTurnier-Packages: \n\n   Singles-Package (Mitglieder GC Süßenbrunn): 55 € / Person\n   Singles-Package (Nicht-Mitglieder/Gäste): 115 € / Person\n   Zusätzliche Optionen: Buchung von Flights oder exklusives VIP-Package möglich\n\nDer erste Abschlag ist um 10:00 Uhr geplant. Im Anschluss an das Vienna Vikings Charity Golf Turnier erfolgen Siegerehrung\, gemeinsames Essen sowie eine Tombola mit attraktiven Preisen. \nEin besonderes Highlight: Kabarettist Gery Seidl wird selbst am Turnier teilnehmen und als Vertreter des Lichtblickhofs vor Ort sein. Also – worauf wartest du noch? Schwing deine Schläger\, wirf dich in dein bestes Golf-Outfit und melde dich gleich an. \n\nZur Anmeldung\nGolfclub Süßenbrunn\n\nWeitere Informationen findest du hier: https://viennavikings.football/en/news/team/golf-with-the-vikings-fuer-den-guten-zweck-abschlagen. Bitte melde dich bis zum 27. April über das Anmeldeformular an. Gery Seidl und die Vienna Vikings freuen sich auf dich und dein Team! \nFür Rückfragen wende dich bitte an (+43) 676 – 3310425 oder vererna.gattinger@viennavikings.com oder vinzenz.knapp@viennavikings.com.
URL:https://lichtblickhof.at/event/golf-with-the-vikings/
CATEGORIES:Termine
END:VEVENT
BEGIN:VEVENT
DTSTART;TZID=Europe/Vienna:20250509T160000
DTEND;TZID=Europe/Vienna:20250509T170000
DTSTAMP:20260421T143445
CREATED:20250217T065648Z
LAST-MODIFIED:20250217T065648Z
UID:73427-1746806400-1746810000@lichtblickhof.at
SUMMARY:FÜHRUNG Den Lichtblickhof WIEN persönlich kennen lernen!
DESCRIPTION:Liebe Interessierte\, liebe Freund*innen des Lichtblickhofs\,\n\n\n\nam Freitag\, den 9.5.2025 von 16:00 bis ca. 17:00 Uhr bieten wir für Interessierte eine Führung am Lichtblickhof an. Wir erzählen etwas über unsere Geschichte\, das besondere der tiergestützten Therapie und unsere vierbeinigen Therapeut*innen. \nDie Führung findet bei jedem Wetter großteils im Freien statt\, bitte dies bei der Kleidungswahl berücksichtigen. \nZeitpunkt: 16:00 Uhr \nDauer: ca. 1 Stunde \nWo: Lichtblickhof Wien (Klinik Penzing)\, Zugang über Reizenpfenninggasse 1A\, 1140 Wien; Treffpunkt beim Lageplan (Reizenpfenninggasse 1A\, einige Fußminuten dem Straßenverlauf folgen) \nAchtung:  keine Parkmöglichkeiten am Hof\, Ausnahme: bitte um Information bei Anmeldung falls Zufahrt notwendig. \nAchtung: Hunde sind leider nicht erlaubt \nAnmeldung: Name\, genaue Personenanzahl und Telefonnummer HIER! Bei Fragen wenden Sie sich bitte an office@lichtblickhof.at \nWir freuen uns auf ein Kennenlernen! \nDas zwei- und vierbeinige Team des Lichtblickhofs
URL:https://lichtblickhof.at/event/fuehrung-den-lichtblickhof-wien-persoenlich-kennen-lernen/
CATEGORIES:Termine
END:VEVENT
BEGIN:VEVENT
DTSTART;TZID=Europe/Vienna:20250523T100000
DTEND;TZID=Europe/Vienna:20250525T170000
DTSTAMP:20260421T143445
CREATED:20250101T064653Z
LAST-MODIFIED:20250131T151857Z
UID:73283-1747994400-1748192400@lichtblickhof.at
SUMMARY:MITHELFEN Helfer*innen Wochenende am Lichtblickhof in NÖ
DESCRIPTION:Ordnung und sauber machen\, Instandhaltung\, Gartengestaltung\, Bepflanzung\, Baumschnitt\, Zaunkontrolle und -reparaturen sowie viele Dinge mehr\, die ein Hof braucht. \nZeitrahmen: von 10.00 bis ca. 17.00 Uhr \nHier können auch nur einzelne Tage gewählt werden. Einsteigen jederzeit möglich.\nAdresse: Lichtblickhof Niederösterreich\, Steinbach 3\, 3144 Wald\nWegbeschreibung auf der Homepage\, weil das Navi oft vorbeiführt\, bitte unbedingt nützen. \nPersonenanzahl: keine Beschränkung\, weil jede Hand zählt. Voranmeldung notwendig\, damit wir bezüglich der Essensmenge planen können! \nBesonderheiten: Kinder sind willkommen\, können jedoch nicht von uns beaufsichtigt werde. Hunde können aus Sicherheitsgründen für alle Beteiligten leider nicht dabei sein – wir danken für ihr Verständnis. \nAnmeldefrist: 21. Mai 2025 \nWenn du Lust hast uns zu unterstützen melde dich bitte unter office@lichtblickhof.at
URL:https://lichtblickhof.at/event/helferinnen-wochenende-am-lichtblickhof-in-noe/
CATEGORIES:Termine
END:VEVENT
BEGIN:VEVENT
DTSTART;TZID=Europe/Vienna:20250524T130000
DTEND;TZID=Europe/Vienna:20250524T235900
DTSTAMP:20260421T143445
CREATED:20250401T195352Z
LAST-MODIFIED:20250401T195553Z
UID:73511-1748091600-1748131140@lichtblickhof.at
SUMMARY:CHARITY EVENT: Aspernhofer Marktlauf
DESCRIPTION:
URL:https://lichtblickhof.at/event/charity-event-aspernhofer-marktlauf/
CATEGORIES:Termine
END:VEVENT
BEGIN:VEVENT
DTSTART;TZID=Europe/Vienna:20250527T100000
DTEND;TZID=Europe/Vienna:20250528T180000
DTSTAMP:20260421T143445
CREATED:20250101T065139Z
LAST-MODIFIED:20250506T125209Z
UID:73287-1748340000-1748455200@lichtblickhof.at
SUMMARY:MITHELFEN Umzugstage vom Lichtblickhof Wien nach Niederösterreich
DESCRIPTION:Zeitrahmen: von 10.00 bis 18.00 Uhr\nHier können auch nur einzelne Tage gewählt werden. Einsteigen\njederzeit möglich. \nAdresse: Tätigkeit an beiden Standorten\nLichtblickhof Wien\, Reizenpfenninggasse 1a\, 1140 Wien\nLichtblickhof Niederösterreich\, Steinbach 3\, 3144 Wald\nWegbeschreibung auf der Homepage\, weil das Navi oft vorbeiführt\,\nbitte unbedingt nützen. ACHTUNG: Bei Anfahrt in Wien unbedingt über Reizenpfenninggasse zufahren\, da Klinik Penzing mit Parksystem gesperrt ist. \nPersonenanzahl: keine Beschränkung\, weil jede Hand zählt. Voranmeldung\nnotwendig\, damit wir bezüglich der Essensmenge planen können! \nBesonderheiten: Kinder sind willkommen\, können jedoch nicht von uns beaufsichtigt werde. Hunde können aus Sicherheitsgründen für alle Beteiligten leider nicht dabei sein – wir danken für ihr Verständnis. \nAnmeldefrist: 21. Mai 2025 \nWenn du Lust hast uns zu Unterstützen melde dich bitte unter office@lichtblickhof.at
URL:https://lichtblickhof.at/event/umzugstage-vom-lichtblickhof-wien-nach-niederoesterreich/
CATEGORIES:Termine
END:VEVENT
END:VCALENDAR